BEGIN:VCALENDAR
VERSION:2.0
PRODID:-//Room 15 - ECPv6.15.20//NONSGML v1.0//EN
CALSCALE:GREGORIAN
METHOD:PUBLISH
X-ORIGINAL-URL:https://room15.net
X-WR-CALDESC:Events for Room 15
REFRESH-INTERVAL;VALUE=DURATION:PT1H
X-Robots-Tag:noindex
X-PUBLISHED-TTL:PT1H
BEGIN:VTIMEZONE
TZID:America/Los_Angeles
BEGIN:DAYLIGHT
TZOFFSETFROM:-0800
TZOFFSETTO:-0700
TZNAME:PDT
DTSTART:20250309T100000
END:DAYLIGHT
BEGIN:STANDARD
TZOFFSETFROM:-0700
TZOFFSETTO:-0800
TZNAME:PST
DTSTART:20251102T090000
END:STANDARD
BEGIN:DAYLIGHT
TZOFFSETFROM:-0800
TZOFFSETTO:-0700
TZNAME:PDT
DTSTART:20260308T100000
END:DAYLIGHT
BEGIN:STANDARD
TZOFFSETFROM:-0700
TZOFFSETTO:-0800
TZNAME:PST
DTSTART:20261101T090000
END:STANDARD
BEGIN:DAYLIGHT
TZOFFSETFROM:-0800
TZOFFSETTO:-0700
TZNAME:PDT
DTSTART:20270314T100000
END:DAYLIGHT
BEGIN:STANDARD
TZOFFSETFROM:-0700
TZOFFSETTO:-0800
TZNAME:PST
DTSTART:20271107T090000
END:STANDARD
END:VTIMEZONE
BEGIN:VEVENT
DTSTART;TZID=America/Los_Angeles:20260207T063000
DTEND;TZID=America/Los_Angeles:20260207T073000
DTSTAMP:20260419T094232
CREATED:20260409T232827Z
LAST-MODIFIED:20260410T151206Z
UID:160-1770445800-1770449400@room15.net
SUMMARY:SMG Morning Meeting
DESCRIPTION:Chairperson: Lee S.
URL:https://room15.net/index.php/event/smg-morning-meeting-62/
CATEGORIES:Morning Meeting
END:VEVENT
BEGIN:VEVENT
DTSTART;TZID=America/Los_Angeles:20260208T063000
DTEND;TZID=America/Los_Angeles:20260208T073000
DTSTAMP:20260419T094232
CREATED:20260409T232735Z
LAST-MODIFIED:20260410T151229Z
UID:158-1770532200-1770535800@room15.net
SUMMARY:SMG Morning Meeting
DESCRIPTION:Chairperson: David O.
URL:https://room15.net/index.php/event/smg-morning-meeting-61/
CATEGORIES:Morning Meeting
END:VEVENT
BEGIN:VEVENT
DTSTART;TZID=America/Los_Angeles:20260209T063000
DTEND;TZID=America/Los_Angeles:20260209T073000
DTSTAMP:20260419T094233
CREATED:20260409T232645Z
LAST-MODIFIED:20260409T232645Z
UID:156-1770618600-1770622200@room15.net
SUMMARY:SMG Morning Meeting
DESCRIPTION:Chairperson: Charlie
URL:https://room15.net/index.php/event/smg-morning-meeting-60/
LOCATION:Sierra 2 Center for the Arts and Community – Rm. 15\, 2791 24th St\, Sacramento\, CA\, 95818\, United States
CATEGORIES:Morning Meeting
END:VEVENT
BEGIN:VEVENT
DTSTART;TZID=America/Los_Angeles:20260210T063000
DTEND;TZID=America/Los_Angeles:20260210T073000
DTSTAMP:20260419T094233
CREATED:20260409T232408Z
LAST-MODIFIED:20260409T232408Z
UID:154-1770705000-1770708600@room15.net
SUMMARY:SMG Morning Meeting
DESCRIPTION:Chairperson: Andy N.
URL:https://room15.net/index.php/event/smg-morning-meeting-59/
LOCATION:Sierra 2 Center for the Arts and Community – Rm. 15\, 2791 24th St\, Sacramento\, CA\, 95818\, United States
CATEGORIES:Morning Meeting
END:VEVENT
BEGIN:VEVENT
DTSTART;TZID=America/Los_Angeles:20260211T063000
DTEND;TZID=America/Los_Angeles:20260211T073000
DTSTAMP:20260419T094233
CREATED:20260409T232316Z
LAST-MODIFIED:20260409T232316Z
UID:152-1770791400-1770795000@room15.net
SUMMARY:SMG Morning Meeting
DESCRIPTION:Chairperson: Rich G. ?
URL:https://room15.net/index.php/event/smg-morning-meeting-58/
LOCATION:Sierra 2 Center for the Arts and Community – Rm. 15\, 2791 24th St\, Sacramento\, CA\, 95818\, United States
CATEGORIES:Morning Meeting
END:VEVENT
BEGIN:VEVENT
DTSTART;TZID=America/Los_Angeles:20260212T063000
DTEND;TZID=America/Los_Angeles:20260212T073000
DTSTAMP:20260419T094233
CREATED:20260409T232230Z
LAST-MODIFIED:20260409T232230Z
UID:150-1770877800-1770881400@room15.net
SUMMARY:SMG Morning Meeting
DESCRIPTION:Chairperson: Rich G. ?
URL:https://room15.net/index.php/event/smg-morning-meeting-57/
LOCATION:Sierra 2 Center for the Arts and Community – Rm. 15\, 2791 24th St\, Sacramento\, CA\, 95818\, United States
CATEGORIES:Morning Meeting
END:VEVENT
BEGIN:VEVENT
DTSTART;TZID=America/Los_Angeles:20260213T063000
DTEND;TZID=America/Los_Angeles:20260213T073000
DTSTAMP:20260419T094233
CREATED:20260409T232020Z
LAST-MODIFIED:20260409T232020Z
UID:148-1770964200-1770967800@room15.net
SUMMARY:SMG Morning Meeting
DESCRIPTION:Chairperson: Jay S.
URL:https://room15.net/index.php/event/smg-morning-meeting-56/
LOCATION:Sierra 2 Center for the Arts and Community – Rm. 15\, 2791 24th St\, Sacramento\, CA\, 95818\, United States
CATEGORIES:Morning Meeting
END:VEVENT
BEGIN:VEVENT
DTSTART;TZID=America/Los_Angeles:20260214T063000
DTEND;TZID=America/Los_Angeles:20260214T073000
DTSTAMP:20260419T094233
CREATED:20260409T231936Z
LAST-MODIFIED:20260409T231936Z
UID:146-1771050600-1771054200@room15.net
SUMMARY:SMG Morning Meeting
DESCRIPTION:Chairperson: Tim H.
URL:https://room15.net/index.php/event/smg-morning-meeting-55/
LOCATION:Sierra 2 Center for the Arts and Community – Rm. 15\, 2791 24th St\, Sacramento\, CA\, 95818\, United States
CATEGORIES:Morning Meeting
END:VEVENT
BEGIN:VEVENT
DTSTART;TZID=America/Los_Angeles:20260215T063000
DTEND;TZID=America/Los_Angeles:20260215T073000
DTSTAMP:20260419T094233
CREATED:20260409T231852Z
LAST-MODIFIED:20260409T231852Z
UID:144-1771137000-1771140600@room15.net
SUMMARY:SMG Morning Meeting
DESCRIPTION:Chairperson: Kaveh
URL:https://room15.net/index.php/event/smg-morning-meeting-54/
LOCATION:Sierra 2 Center for the Arts and Community – Rm. 15\, 2791 24th St\, Sacramento\, CA\, 95818\, United States
CATEGORIES:Morning Meeting
END:VEVENT
BEGIN:VEVENT
DTSTART;TZID=America/Los_Angeles:20260216T063000
DTEND;TZID=America/Los_Angeles:20260216T073000
DTSTAMP:20260419T094233
CREATED:20260409T231707Z
LAST-MODIFIED:20260409T231707Z
UID:142-1771223400-1771227000@room15.net
SUMMARY:SMG Morning Meeting
DESCRIPTION:Chairperson: David S.
URL:https://room15.net/index.php/event/smg-morning-meeting-53/
LOCATION:Sierra 2 Center for the Arts and Community – Rm. 15\, 2791 24th St\, Sacramento\, CA\, 95818\, United States
CATEGORIES:Morning Meeting
END:VEVENT
BEGIN:VEVENT
DTSTART;TZID=America/Los_Angeles:20260217T063000
DTEND;TZID=America/Los_Angeles:20260217T073000
DTSTAMP:20260419T094233
CREATED:20260409T231606Z
LAST-MODIFIED:20260409T231606Z
UID:140-1771309800-1771313400@room15.net
SUMMARY:SMG Morning Meeting
DESCRIPTION:Chairperson: Tom B.
URL:https://room15.net/index.php/event/smg-morning-meeting-52/
LOCATION:Sierra 2 Center for the Arts and Community – Rm. 15\, 2791 24th St\, Sacramento\, CA\, 95818\, United States
CATEGORIES:Morning Meeting
END:VEVENT
BEGIN:VEVENT
DTSTART;TZID=America/Los_Angeles:20260218T063000
DTEND;TZID=America/Los_Angeles:20260218T073000
DTSTAMP:20260419T094233
CREATED:20260409T231500Z
LAST-MODIFIED:20260409T231500Z
UID:138-1771396200-1771399800@room15.net
SUMMARY:SMG Morning Meeting
DESCRIPTION:Chairperson: Rich A.
URL:https://room15.net/index.php/event/smg-morning-meeting-51/
LOCATION:Sierra 2 Center for the Arts and Community – Rm. 15\, 2791 24th St\, Sacramento\, CA\, 95818\, United States
CATEGORIES:Morning Meeting
END:VEVENT
BEGIN:VEVENT
DTSTART;TZID=America/Los_Angeles:20260219T063000
DTEND;TZID=America/Los_Angeles:20260219T073000
DTSTAMP:20260419T094233
CREATED:20260409T231401Z
LAST-MODIFIED:20260409T231401Z
UID:136-1771482600-1771486200@room15.net
SUMMARY:SMG Morning Meeting
DESCRIPTION:Chairperson: Rick Z.
URL:https://room15.net/index.php/event/smg-morning-meeting-50/
LOCATION:Sierra 2 Center for the Arts and Community – Rm. 15\, 2791 24th St\, Sacramento\, CA\, 95818\, United States
CATEGORIES:Morning Meeting
END:VEVENT
BEGIN:VEVENT
DTSTART;TZID=America/Los_Angeles:20260220T063000
DTEND;TZID=America/Los_Angeles:20260220T073000
DTSTAMP:20260419T094233
CREATED:20260409T231247Z
LAST-MODIFIED:20260409T231247Z
UID:134-1771569000-1771572600@room15.net
SUMMARY:SMG Morning Meeting
DESCRIPTION:Chairperson: Xavier
URL:https://room15.net/index.php/event/smg-morning-meeting-49/
LOCATION:Sierra 2 Center for the Arts and Community – Rm. 15\, 2791 24th St\, Sacramento\, CA\, 95818\, United States
CATEGORIES:Morning Meeting
END:VEVENT
BEGIN:VEVENT
DTSTART;TZID=America/Los_Angeles:20260221T063000
DTEND;TZID=America/Los_Angeles:20260221T073000
DTSTAMP:20260419T094233
CREATED:20260409T231145Z
LAST-MODIFIED:20260409T231145Z
UID:132-1771655400-1771659000@room15.net
SUMMARY:SMG Morning Meeting
DESCRIPTION:Chairperson: David P.
URL:https://room15.net/index.php/event/smg-morning-meeting-48/
LOCATION:Sierra 2 Center for the Arts and Community – Rm. 15\, 2791 24th St\, Sacramento\, CA\, 95818\, United States
CATEGORIES:Morning Meeting
END:VEVENT
BEGIN:VEVENT
DTSTART;TZID=America/Los_Angeles:20260222T063000
DTEND;TZID=America/Los_Angeles:20260222T073000
DTSTAMP:20260419T094233
CREATED:20260409T230955Z
LAST-MODIFIED:20260409T230955Z
UID:129-1771741800-1771745400@room15.net
SUMMARY:SMG Morning Meeting
DESCRIPTION:Chairperson: Dan G. “Catholic Dan”
URL:https://room15.net/index.php/event/smg-morning-meeting-47/
LOCATION:Sierra 2 Center for the Arts and Community – Rm. 15\, 2791 24th St\, Sacramento\, CA\, 95818\, United States
CATEGORIES:Morning Meeting
END:VEVENT
BEGIN:VEVENT
DTSTART;TZID=America/Los_Angeles:20260223T063000
DTEND;TZID=America/Los_Angeles:20260223T073000
DTSTAMP:20260419T094233
CREATED:20260409T230823Z
LAST-MODIFIED:20260409T230823Z
UID:127-1771828200-1771831800@room15.net
SUMMARY:SMG Morning Meeting
DESCRIPTION:Chairperson: Chuck S.
URL:https://room15.net/index.php/event/smg-morning-meeting-46/
LOCATION:Sierra 2 Center for the Arts and Community – Rm. 15\, 2791 24th St\, Sacramento\, CA\, 95818\, United States
CATEGORIES:Morning Meeting
END:VEVENT
BEGIN:VEVENT
DTSTART;TZID=America/Los_Angeles:20260224T063000
DTEND;TZID=America/Los_Angeles:20260224T073000
DTSTAMP:20260419T094233
CREATED:20260409T230643Z
LAST-MODIFIED:20260409T230643Z
UID:125-1771914600-1771918200@room15.net
SUMMARY:SMG Morning Meeting
DESCRIPTION:Chairperson: Sean G.
URL:https://room15.net/index.php/event/smg-morning-meeting-45/
LOCATION:Sierra 2 Center for the Arts and Community – Rm. 15\, 2791 24th St\, Sacramento\, CA\, 95818\, United States
CATEGORIES:Morning Meeting
END:VEVENT
BEGIN:VEVENT
DTSTART;TZID=America/Los_Angeles:20260225T063000
DTEND;TZID=America/Los_Angeles:20260225T073000
DTSTAMP:20260419T094233
CREATED:20260409T230555Z
LAST-MODIFIED:20260409T230555Z
UID:123-1772001000-1772004600@room15.net
SUMMARY:SMG Morning Meeting
DESCRIPTION:Chairperson: Jay L.
URL:https://room15.net/index.php/event/smg-morning-meeting-44/
LOCATION:Sierra 2 Center for the Arts and Community – Rm. 15\, 2791 24th St\, Sacramento\, CA\, 95818\, United States
CATEGORIES:Morning Meeting
END:VEVENT
BEGIN:VEVENT
DTSTART;TZID=America/Los_Angeles:20260226T063000
DTEND;TZID=America/Los_Angeles:20260226T073000
DTSTAMP:20260419T094233
CREATED:20260409T230500Z
LAST-MODIFIED:20260409T231047Z
UID:121-1772087400-1772091000@room15.net
SUMMARY:SMG Morning Meeting
DESCRIPTION:Chairperson: Dan G. “Philli Dan”
URL:https://room15.net/index.php/event/smg-morning-meeting-43/
LOCATION:Sierra 2 Center for the Arts and Community – Rm. 15\, 2791 24th St\, Sacramento\, CA\, 95818\, United States
CATEGORIES:Morning Meeting
END:VEVENT
BEGIN:VEVENT
DTSTART;TZID=America/Los_Angeles:20260227T063000
DTEND;TZID=America/Los_Angeles:20260227T073000
DTSTAMP:20260419T094233
CREATED:20260409T230334Z
LAST-MODIFIED:20260409T230334Z
UID:119-1772173800-1772177400@room15.net
SUMMARY:SMG Morning Meeting
DESCRIPTION:Chairperson: Joe
URL:https://room15.net/index.php/event/smg-morning-meeting-42/
LOCATION:Sierra 2 Center for the Arts and Community – Rm. 15\, 2791 24th St\, Sacramento\, CA\, 95818\, United States
CATEGORIES:Morning Meeting
END:VEVENT
BEGIN:VEVENT
DTSTART;TZID=America/Los_Angeles:20260228T063000
DTEND;TZID=America/Los_Angeles:20260228T073000
DTSTAMP:20260419T094233
CREATED:20260409T230231Z
LAST-MODIFIED:20260409T230231Z
UID:117-1772260200-1772263800@room15.net
SUMMARY:SMG Morning Meeting
DESCRIPTION:Chairperson: Chris M.
URL:https://room15.net/index.php/event/smg-morning-meeting-41/
LOCATION:Sierra 2 Center for the Arts and Community – Rm. 15\, 2791 24th St\, Sacramento\, CA\, 95818\, United States
CATEGORIES:Morning Meeting
END:VEVENT
END:VCALENDAR