BEGIN:VCALENDAR
VERSION:2.0
PRODID:-//Room 15 - ECPv6.15.20//NONSGML v1.0//EN
CALSCALE:GREGORIAN
METHOD:PUBLISH
X-ORIGINAL-URL:https://room15.net
X-WR-CALDESC:Events for Room 15
REFRESH-INTERVAL;VALUE=DURATION:PT1H
X-Robots-Tag:noindex
X-PUBLISHED-TTL:PT1H
BEGIN:VTIMEZONE
TZID:America/Los_Angeles
BEGIN:DAYLIGHT
TZOFFSETFROM:-0800
TZOFFSETTO:-0700
TZNAME:PDT
DTSTART:20250309T100000
END:DAYLIGHT
BEGIN:STANDARD
TZOFFSETFROM:-0700
TZOFFSETTO:-0800
TZNAME:PST
DTSTART:20251102T090000
END:STANDARD
BEGIN:DAYLIGHT
TZOFFSETFROM:-0800
TZOFFSETTO:-0700
TZNAME:PDT
DTSTART:20260308T100000
END:DAYLIGHT
BEGIN:STANDARD
TZOFFSETFROM:-0700
TZOFFSETTO:-0800
TZNAME:PST
DTSTART:20261101T090000
END:STANDARD
BEGIN:DAYLIGHT
TZOFFSETFROM:-0800
TZOFFSETTO:-0700
TZNAME:PDT
DTSTART:20270314T100000
END:DAYLIGHT
BEGIN:STANDARD
TZOFFSETFROM:-0700
TZOFFSETTO:-0800
TZNAME:PST
DTSTART:20271107T090000
END:STANDARD
END:VTIMEZONE
BEGIN:VEVENT
DTSTART;TZID=America/Los_Angeles:20260419T063000
DTEND;TZID=America/Los_Angeles:20260419T073000
DTSTAMP:20260419T081327
CREATED:20260419T132354Z
LAST-MODIFIED:20260419T133632Z
UID:468-1776580200-1776583800@room15.net
SUMMARY:SMG Morning Meeting
DESCRIPTION:Chairperson: Matt O’C
URL:https://room15.net/index.php/event/smg-morning-meeting-72/
CATEGORIES:Morning Meeting
END:VEVENT
BEGIN:VEVENT
DTSTART;TZID=America/Los_Angeles:20260418T170000
DTEND;TZID=America/Los_Angeles:20260418T190000
DTSTAMP:20260419T081327
CREATED:20260409T205913Z
LAST-MODIFIED:20260409T205913Z
UID:21-1776531600-1776538800@room15.net
SUMMARY:April Monthly Dinner
DESCRIPTION:Monthly dinner at Sakura Buffet.
URL:https://room15.net/index.php/event/april-monthly-dinner/
LOCATION:Sakura Grill & Buffet\, 2344 Watt Ave\, Sacramento\, CA\, 95825\, United States
CATEGORIES:Monthly Dinner
END:VEVENT
BEGIN:VEVENT
DTSTART;TZID=America/Los_Angeles:20260418T063000
DTEND;TZID=America/Los_Angeles:20260418T073000
DTSTAMP:20260419T081327
CREATED:20260418T132210Z
LAST-MODIFIED:20260418T142118Z
UID:464-1776493800-1776497400@room15.net
SUMMARY:SMG Morning Meeting
DESCRIPTION:Chairperson: Chris Z.
URL:https://room15.net/index.php/event/smg-morning-meeting-71/
CATEGORIES:Morning Meeting
END:VEVENT
BEGIN:VEVENT
DTSTART;TZID=America/Los_Angeles:20260417T063000
DTEND;TZID=America/Los_Angeles:20260417T073000
DTSTAMP:20260419T081327
CREATED:20260417T132704Z
LAST-MODIFIED:20260417T132845Z
UID:461-1776407400-1776411000@room15.net
SUMMARY:SMG Morning Meeting
DESCRIPTION:Chairperson: Mikey F.
URL:https://room15.net/index.php/event/smg-morning-meeting-70/
CATEGORIES:Morning Meeting
END:VEVENT
BEGIN:VEVENT
DTSTART;TZID=America/Los_Angeles:20260416T063000
DTEND;TZID=America/Los_Angeles:20260416T073000
DTSTAMP:20260419T081327
CREATED:20260416T132227Z
LAST-MODIFIED:20260416T133631Z
UID:457-1776321000-1776324600@room15.net
SUMMARY:SMG Morning Meeting
DESCRIPTION:Chairperson: Paul B.
URL:https://room15.net/index.php/event/smg-morning-meeting-69/
CATEGORIES:Morning Meeting
END:VEVENT
BEGIN:VEVENT
DTSTART;TZID=America/Los_Angeles:20260415T063000
DTEND;TZID=America/Los_Angeles:20260415T073000
DTSTAMP:20260419T081327
CREATED:20260415T132126Z
LAST-MODIFIED:20260415T155643Z
UID:451-1776234600-1776238200@room15.net
SUMMARY:SMG Morning Meeting
DESCRIPTION:Chairperson: Jonas C.
URL:https://room15.net/index.php/event/smg-morning-meeting-68/
CATEGORIES:Morning Meeting
END:VEVENT
BEGIN:VEVENT
DTSTART;TZID=America/Los_Angeles:20260414T063000
DTEND;TZID=America/Los_Angeles:20260414T073000
DTSTAMP:20260419T081327
CREATED:20260414T132849Z
LAST-MODIFIED:20260414T133634Z
UID:447-1776148200-1776151800@room15.net
SUMMARY:SMG Morning Meeting
DESCRIPTION:Chairperson: Dave M.
URL:https://room15.net/index.php/event/smg-morning-meeting-67/
CATEGORIES:Morning Meeting
END:VEVENT
BEGIN:VEVENT
DTSTART;TZID=America/Los_Angeles:20260413T063000
DTEND;TZID=America/Los_Angeles:20260413T073000
DTSTAMP:20260419T081327
CREATED:20260413T131910Z
LAST-MODIFIED:20260413T164330Z
UID:444-1776061800-1776065400@room15.net
SUMMARY:SMG Morning Meeting
DESCRIPTION:Chairperson: Bruce B.
URL:https://room15.net/index.php/event/smg-morning-meeting-66/
END:VEVENT
BEGIN:VEVENT
DTSTART;TZID=America/Los_Angeles:20260412T063000
DTEND;TZID=America/Los_Angeles:20260412T073000
DTSTAMP:20260419T081327
CREATED:20260412T133254Z
LAST-MODIFIED:20260412T133548Z
UID:440-1775975400-1775979000@room15.net
SUMMARY:SMG Morning Meeting
DESCRIPTION:Chairperson: Dale
URL:https://room15.net/index.php/event/smg-morning-meeting-65/
CATEGORIES:Morning Meeting
END:VEVENT
BEGIN:VEVENT
DTSTART;TZID=America/Los_Angeles:20260411T063000
DTEND;TZID=America/Los_Angeles:20260411T073000
DTSTAMP:20260419T081327
CREATED:20260411T133816Z
LAST-MODIFIED:20260411T205707Z
UID:437-1775889000-1775892600@room15.net
SUMMARY:SMG Morning Meeting
DESCRIPTION:Chairperson: Frank H.
URL:https://room15.net/index.php/event/smg-morning-meeting-64/
CATEGORIES:Morning Meeting
END:VEVENT
BEGIN:VEVENT
DTSTART;TZID=America/Los_Angeles:20260410T063000
DTEND;TZID=America/Los_Angeles:20260410T073000
DTSTAMP:20260419T081327
CREATED:20260410T151136Z
LAST-MODIFIED:20260410T151136Z
UID:189-1775802600-1775806200@room15.net
SUMMARY:SMG Morning Meeting
DESCRIPTION:Chairperson: Matt K.
URL:https://room15.net/index.php/event/smg-morning-meeting-63/
CATEGORIES:Morning Meeting
END:VEVENT
BEGIN:VEVENT
DTSTART;TZID=America/Los_Angeles:20260409T063000
DTEND;TZID=America/Los_Angeles:20260409T073000
DTSTAMP:20260419T081327
CREATED:20260409T190055Z
LAST-MODIFIED:20260415T160031Z
UID:15-1775716200-1775719800@room15.net
SUMMARY:SMG Morning Meeting
DESCRIPTION:Chairperson: Alan D.
URL:https://room15.net/index.php/event/smg-morning-meeting/
CATEGORIES:Morning Meeting
END:VEVENT
BEGIN:VEVENT
DTSTART;TZID=America/Los_Angeles:20260408T063000
DTEND;TZID=America/Los_Angeles:20260408T073000
DTSTAMP:20260419T081327
CREATED:20260409T190212Z
LAST-MODIFIED:20260410T034459Z
UID:17-1775629800-1775633400@room15.net
SUMMARY:SMG Morning Meeting
DESCRIPTION:Chairperson: Willie R.
URL:https://room15.net/index.php/event/smg-morning-meeting-2/
CATEGORIES:Morning Meeting
END:VEVENT
BEGIN:VEVENT
DTSTART;TZID=America/Los_Angeles:20260407T063000
DTEND;TZID=America/Los_Angeles:20260407T073000
DTSTAMP:20260419T081327
CREATED:20260409T210758Z
LAST-MODIFIED:20260410T034531Z
UID:27-1775543400-1775547000@room15.net
SUMMARY:SMG Morning Meeting
DESCRIPTION:Chairperson: Tony T.
URL:https://room15.net/index.php/event/smg-morning-meeting-3/
CATEGORIES:Morning Meeting
END:VEVENT
BEGIN:VEVENT
DTSTART;TZID=America/Los_Angeles:20260406T063000
DTEND;TZID=America/Los_Angeles:20260406T073000
DTSTAMP:20260419T081327
CREATED:20260409T211146Z
LAST-MODIFIED:20260410T034548Z
UID:29-1775457000-1775460600@room15.net
SUMMARY:SMG Morning Meeting
DESCRIPTION:Chairperson: Bill W.
URL:https://room15.net/index.php/event/smg-morning-meeting-4/
CATEGORIES:Morning Meeting
END:VEVENT
BEGIN:VEVENT
DTSTART;TZID=America/Los_Angeles:20260405T063000
DTEND;TZID=America/Los_Angeles:20260405T073000
DTSTAMP:20260419T081327
CREATED:20260409T211348Z
LAST-MODIFIED:20260410T034609Z
UID:31-1775370600-1775374200@room15.net
SUMMARY:SMG Morning Meeting
DESCRIPTION:Chairperson: Casey B.
URL:https://room15.net/index.php/event/smg-morning-meeting-5/
CATEGORIES:Morning Meeting
END:VEVENT
BEGIN:VEVENT
DTSTART;TZID=America/Los_Angeles:20260404T063000
DTEND;TZID=America/Los_Angeles:20260404T073000
DTSTAMP:20260419T081327
CREATED:20260409T220952Z
LAST-MODIFIED:20260410T034741Z
UID:46-1775284200-1775287800@room15.net
SUMMARY:SMG Morning Meeting
DESCRIPTION:Chairperson: Bobby L.
URL:https://room15.net/index.php/event/smg-morning-meeting-6/
CATEGORIES:Morning Meeting
END:VEVENT
BEGIN:VEVENT
DTSTART;TZID=America/Los_Angeles:20260403T063000
DTEND;TZID=America/Los_Angeles:20260403T073000
DTSTAMP:20260419T081327
CREATED:20260409T221043Z
LAST-MODIFIED:20260410T034759Z
UID:48-1775197800-1775201400@room15.net
SUMMARY:SMG Morning Meeting
DESCRIPTION:Chairperson: David O.
URL:https://room15.net/index.php/event/smg-morning-meeting-7/
CATEGORIES:Morning Meeting
END:VEVENT
BEGIN:VEVENT
DTSTART;TZID=America/Los_Angeles:20260402T063000
DTEND;TZID=America/Los_Angeles:20260402T073000
DTSTAMP:20260419T081327
CREATED:20260409T221133Z
LAST-MODIFIED:20260410T034815Z
UID:50-1775111400-1775115000@room15.net
SUMMARY:SMG Morning Meeting
DESCRIPTION:Chairperson: Jay S.
URL:https://room15.net/index.php/event/smg-morning-meeting-8/
CATEGORIES:Morning Meeting
END:VEVENT
BEGIN:VEVENT
DTSTART;TZID=America/Los_Angeles:20260401T063000
DTEND;TZID=America/Los_Angeles:20260401T073000
DTSTAMP:20260419T081327
CREATED:20260409T221253Z
LAST-MODIFIED:20260410T034834Z
UID:52-1775025000-1775028600@room15.net
SUMMARY:SMG Morning Meeting
DESCRIPTION:Chairperson: Arch and Andrew – Birthdays
URL:https://room15.net/index.php/event/smg-morning-meeting-9/
CATEGORIES:Morning Meeting
END:VEVENT
BEGIN:VEVENT
DTSTART;TZID=America/Los_Angeles:20260331T063000
DTEND;TZID=America/Los_Angeles:20260331T073000
DTSTAMP:20260419T081327
CREATED:20260409T221403Z
LAST-MODIFIED:20260410T034918Z
UID:54-1774938600-1774942200@room15.net
SUMMARY:SMG Morning Meeting
DESCRIPTION:Chairperson: Sam R.
URL:https://room15.net/index.php/event/smg-morning-meeting-10/
CATEGORIES:Morning Meeting
END:VEVENT
BEGIN:VEVENT
DTSTART;TZID=America/Los_Angeles:20260330T063000
DTEND;TZID=America/Los_Angeles:20260330T073000
DTSTAMP:20260419T081327
CREATED:20260409T221455Z
LAST-MODIFIED:20260410T034937Z
UID:56-1774852200-1774855800@room15.net
SUMMARY:SMG Morning Meeting
DESCRIPTION:Chairperson: Matt H.
URL:https://room15.net/index.php/event/smg-morning-meeting-11/
CATEGORIES:Morning Meeting
END:VEVENT
BEGIN:VEVENT
DTSTART;TZID=America/Los_Angeles:20260329T063000
DTEND;TZID=America/Los_Angeles:20260329T073000
DTSTAMP:20260419T081327
CREATED:20260409T221747Z
LAST-MODIFIED:20260410T034954Z
UID:58-1774765800-1774769400@room15.net
SUMMARY:SMG Morning Meeting
DESCRIPTION:Chairperson: John E.
URL:https://room15.net/index.php/event/smg-morning-meeting-12/
CATEGORIES:Morning Meeting
END:VEVENT
BEGIN:VEVENT
DTSTART;TZID=America/Los_Angeles:20260328T063000
DTEND;TZID=America/Los_Angeles:20260328T073000
DTSTAMP:20260419T081327
CREATED:20260409T221905Z
LAST-MODIFIED:20260410T040108Z
UID:60-1774679400-1774683000@room15.net
SUMMARY:SMG Morning Meeting
DESCRIPTION:Chairperson: Chris M.
URL:https://room15.net/index.php/event/smg-morning-meeting-13/
CATEGORIES:Morning Meeting
END:VEVENT
BEGIN:VEVENT
DTSTART;TZID=America/Los_Angeles:20260327T063000
DTEND;TZID=America/Los_Angeles:20260327T073000
DTSTAMP:20260419T081327
CREATED:20260409T222002Z
LAST-MODIFIED:20260410T040132Z
UID:62-1774593000-1774596600@room15.net
SUMMARY:SMG Morning Meeting
DESCRIPTION:Chairperson: Lee S.
URL:https://room15.net/index.php/event/smg-morning-meeting-14/
CATEGORIES:Morning Meeting
END:VEVENT
BEGIN:VEVENT
DTSTART;TZID=America/Los_Angeles:20260326T063000
DTEND;TZID=America/Los_Angeles:20260326T073000
DTSTAMP:20260419T081327
CREATED:20260409T222108Z
LAST-MODIFIED:20260410T040149Z
UID:64-1774506600-1774510200@room15.net
SUMMARY:SMG Morning Meeting
DESCRIPTION:Chairperson: Drew A.
URL:https://room15.net/index.php/event/smg-morning-meeting-15/
CATEGORIES:Morning Meeting
END:VEVENT
BEGIN:VEVENT
DTSTART;TZID=America/Los_Angeles:20260325T063000
DTEND;TZID=America/Los_Angeles:20260325T073000
DTSTAMP:20260419T081327
CREATED:20260409T222214Z
LAST-MODIFIED:20260410T040317Z
UID:66-1774420200-1774423800@room15.net
SUMMARY:SMG Morning Meeting
DESCRIPTION:Chairperson: Jay L.
URL:https://room15.net/index.php/event/smg-morning-meeting-16/
CATEGORIES:Morning Meeting
END:VEVENT
BEGIN:VEVENT
DTSTART;TZID=America/Los_Angeles:20260324T063000
DTEND;TZID=America/Los_Angeles:20260324T073000
DTSTAMP:20260419T081327
CREATED:20260409T222345Z
LAST-MODIFIED:20260410T040336Z
UID:68-1774333800-1774337400@room15.net
SUMMARY:SMG Morning Meeting
DESCRIPTION:Chairperson: Mark
URL:https://room15.net/index.php/event/smg-morning-meeting-17/
CATEGORIES:Morning Meeting
END:VEVENT
BEGIN:VEVENT
DTSTART;TZID=America/Los_Angeles:20260323T063000
DTEND;TZID=America/Los_Angeles:20260323T073000
DTSTAMP:20260419T081327
CREATED:20260409T222447Z
LAST-MODIFIED:20260410T040354Z
UID:70-1774247400-1774251000@room15.net
SUMMARY:SMG Morning Meeting
DESCRIPTION:Chairperson: Adam H.
URL:https://room15.net/index.php/event/smg-morning-meeting-18/
CATEGORIES:Morning Meeting
END:VEVENT
BEGIN:VEVENT
DTSTART;TZID=America/Los_Angeles:20260322T063000
DTEND;TZID=America/Los_Angeles:20260322T073000
DTSTAMP:20260419T081327
CREATED:20260409T222643Z
LAST-MODIFIED:20260410T040641Z
UID:72-1774161000-1774164600@room15.net
SUMMARY:SMG Morning Meeting
DESCRIPTION:Chairperson: Justin
URL:https://room15.net/index.php/event/smg-morning-meeting-19/
CATEGORIES:Morning Meeting
END:VEVENT
END:VCALENDAR